BEGIN:VCALENDAR
VERSION:2.0
PRODID:-//Fietsgilde Apeldoorn//NONSGML kigkonsult.se iCalcreator 2.41.92//
CALSCALE:GREGORIAN
METHOD:PUBLISH
UID:39613732-6466-4339-b539-343236663731
X-WR-CALNAME:iCagenda
X-WR-CALDESC:Event Management Extension for Joomla!
X-WR-RELCALID:3E26604A-50F4-4449-8B3E-E4F4932D05B5
X-WR-TIMEZONE:Europe/Amsterdam
BEGIN:VTIMEZONE
TZID:Europe/Amsterdam
TZUNTIL:20280326T010000Z
BEGIN:STANDARD
TZNAME:CET
DTSTART:20251026T030000
TZOFFSETFROM:+0200
TZOFFSETTO:+0100
RDATE:20261025T030000
RDATE:20271031T030000
END:STANDARD
BEGIN:DAYLIGHT
TZNAME:CEST
DTSTART:20260329T020000
TZOFFSETFROM:+0100
TZOFFSETTO:+0200
RDATE:20270328T020000
END:DAYLIGHT
END:VTIMEZONE
BEGIN:VEVENT
UID:64313364-3561-4032-a136-323737646230
DTSTAMP:20260425T151359Z
CATEGORIES:3 wiel fietsen
CLASS:PUBLIC
DESCRIPTION;ALTREP="CID:<FFFF__=0ABBE548DFE235B58f9e8a93d@coffeebean.com>":
 Ochtendtocht van ca. 10 km.Een tocht langs een aantal punten die herinnere
 n aan het 150 jaar bestaan van de spoorlijn en de Loolijn en de relatie me
 t het koningshuis.Op 13 mei 1876 werd de spoorlijn Amersfoort – Apeldoorn 
 officieel geopend\, alsmede de aftakking naar Paleis Het Loo (de zogenaamd
 e Loolijn). Ook op 13 mei 1876 werd het Oranjepark geopend. Verder bestaat
  de buurtvereniging De Parken dit jaar 50 jaar.Daarom heeft de EPA gevraag
 d een fietstocht te organiseren die iets over de spoorlijn en de parken ve
 rteld. We zullen iets vertellen over het Station\, het Oranjepark\, de kwa
 rtjesfontein\, de Loolijn en wat andere punten waar ook de Royal Ride lang
 s gaat.Koffiepauze: Geen
DTSTART:20260513T080000Z
DTEND:20260513T100000Z
GEO:+52.209743;+5.970195
LOCATION:Stationsplein
ORGANIZER:
SEQUENCE:1
SUMMARY:150 jaar spoor en oranjepark - ochtend
TRANSP:OPAQUE
URL:https://fietsgilde-apeldoorn.nl/over/evenementen-overzicht-2/111-150-ja
 ar-spoor-en-oranjepark-ochtend/2026-05-13-10-00?layout=vcal
END:VEVENT
END:VCALENDAR
